



BEGIN:VCALENDAR
VERSION:2.0
PRODID:-//BMX Events - ECPv4.1.1.1//NONSGML v1.0//EN
CALSCALE:GREGORIAN
METHOD:PUBLISH
X-WR-CALNAME:BMX Events
X-ORIGINAL-URL:https://bmxevents.nz
X-WR-CALDESC:Events for BMX Events
BEGIN:VEVENT
DTSTART;TZID=Pacific/Auckland:20251207T000000
DTEND;TZID=Pacific/Auckland:20251207T000000
DTSTAMP:20260425T190256
CREATED:20250706T200454
LAST-MODIFIED:20251123T192026
UID:4705-1765065600-1765065600@bmxevents.nz
SUMMARY:2025 Central Region Champs - TPO
DESCRIPTION:NQM BMXNZ Nat Series Round 10\n\nWhen: SUNDAY\, 7TH DEC 2025\nWhere: Taharepa Road\, Taupo\nCheck-in/Registration: 09:00am – 10:00am\nPractice:\nUCI 8+ Practice: 9:30am-10:20am\nSprocket Practice: 10:20am - 10:35am\nRacing: 11:00am\nEntry: Online entry with payment. https://bmxevents.nz/enter-online\nEntry closes: Sunday 23rd November\, No Late Entries\n\nTRANSPONDERS: Required for all classes except sprockets/strider.\n\nDownload flyer here: CR Champs 2025\n\n
URL:https://bmxevents.nz/event/2025-central-region-champs-tpo/
CATEGORIES:BMXNZ Calendar
ATTACH;FMTTYPE=image/png:https://bmxevents.nz/wp-content/uploads/2025/05/CR.png
END:VEVENT
END:VCALENDAR