



BEGIN:VCALENDAR
VERSION:2.0
PRODID:-//BMX Events - ECPv4.1.1.1//NONSGML v1.0//EN
CALSCALE:GREGORIAN
METHOD:PUBLISH
X-WR-CALNAME:BMX Events
X-ORIGINAL-URL:https://bmxevents.nz
X-WR-CALDESC:Events for BMX Events
BEGIN:VEVENT
DTSTART;TZID=Pacific/Auckland:20241123T030000
DTEND;TZID=Pacific/Auckland:20241123T210000
DTSTAMP:20260425T142114
CREATED:20231129T214540
LAST-MODIFIED:20241122T183217
UID:3958-1732330800-1732395600@bmxevents.nz
SUMMARY:2024 NRRS Round 1 - SC
DESCRIPTION:NRRS Entry ONLY.\n\n\n\nYou must also enter age group in the main meeting.\n\nWhere: SUNSET COAST INTERNATIONAL EVENT CENTRE 80 Attewell Road \, Puni\, Pukekohe\nWhen: Saturday 23rd November 2024\nCheck-In: 2pm – 3pm\nPractice: 2.30pm – 3.30pm\nRacing: 4pm\nEntries: ONLINE ONLY: https://bmxevents.nz/enter-online/\nEntries Close: 17th November 2024\n\nDownload NRRS flyer here:\n\nDownload NRRS flyer here: NRRS 2024-25 - FLYER V2\n\nNRRS 2024-25 - Rules Guidelines V2\n\n
URL:https://bmxevents.nz/event/2024-nrrs-round-2-ec/
CATEGORIES:BMXNZ Calendar
ATTACH;FMTTYPE=image/png:https://bmxevents.nz/wp-content/uploads/2023/03/NRRS.png
END:VEVENT
END:VCALENDAR